BEGIN:VCALENDAR
VERSION:2.0
PRODID:-//eventon.com NONSGML v1.0//EN
CALSCALE:GREGORIAN
METHOD:PUBLISH
BEGIN:VEVENT
UID:69e78f77731fe
DTSTAMP:20260421T145343Z
DTSTART:20240602T190000Z
DTEND:20240602T220000Z
LOCATION:Zaca Mesa Winery 6905 Foxen Canyon Rd
SUMMARY:Summer Sundays: Live Music 🎵
DESCRIPTION:Summer Sundays: Live Music with Lindsey Marie Date: Sunday\,  J
 une 2nd Time: 12pm &#8211; 3pm Join us in our tasting room courtyard to enj
 oy live music by Lindsey Marie! Relax beneath our shady oak trees\,  sip de
 licious wines\,  play a friendly game of life-size chess or bag toss\,  and
  enjoy[..]\nhttps://www.zacamesa.com/eventss/summer-sundays-live-music-with
 -lindsey-marie/
URL:https://www.zacamesa.com/eventss/summer-sundays-live-music-with-lindsey-marie/
END:VEVENT
END:VCALENDAR